BEGIN:VCALENDAR
VERSION:2.0
PRODID:-//cepevryfr - ECPv6.15.11//NONSGML v1.0//EN
CALSCALE:GREGORIAN
METHOD:PUBLISH
X-ORIGINAL-URL:https://www.cepevry.fr
X-WR-CALDESC:Évènements pour cepevryfr
REFRESH-INTERVAL;VALUE=DURATION:PT1H
X-Robots-Tag:noindex
X-PUBLISHED-TTL:PT1H
BEGIN:VTIMEZONE
TZID:Europe/Paris
BEGIN:DAYLIGHT
TZOFFSETFROM:+0100
TZOFFSETTO:+0200
TZNAME:CEST
DTSTART:20200329T010000
END:DAYLIGHT
BEGIN:STANDARD
TZOFFSETFROM:+0200
TZOFFSETTO:+0100
TZNAME:CET
DTSTART:20201025T010000
END:STANDARD
BEGIN:DAYLIGHT
TZOFFSETFROM:+0100
TZOFFSETTO:+0200
TZNAME:CEST
DTSTART:20210328T010000
END:DAYLIGHT
BEGIN:STANDARD
TZOFFSETFROM:+0200
TZOFFSETTO:+0100
TZNAME:CET
DTSTART:20211031T010000
END:STANDARD
BEGIN:DAYLIGHT
TZOFFSETFROM:+0100
TZOFFSETTO:+0200
TZNAME:CEST
DTSTART:20220327T010000
END:DAYLIGHT
BEGIN:STANDARD
TZOFFSETFROM:+0200
TZOFFSETTO:+0100
TZNAME:CET
DTSTART:20221030T010000
END:STANDARD
END:VTIMEZONE
BEGIN:VEVENT
DTSTART;TZID=Europe/Paris:20211204T160000
DTEND;TZID=Europe/Paris:20211204T180000
DTSTAMP:20260420T093646
CREATED:20210925T100416Z
LAST-MODIFIED:20211008T122741Z
UID:10960-1638633600-1638640800@www.cepevry.fr
SUMMARY:Ado connect
DESCRIPTION:Ado’Connect est le groupe de rencontre des ados. Dans une société ultra-connectée par les différents réseaux sociaux\, nous voulons être connectés à l’essentiel : Jésus-Christ. Nous nous rencontrons pour des moments de louange\, de partage\, de détente\, de prières afin de connecter entre nous et avec Dieu. Nos rendez-vous ont lieu les samedis après-midi\, un week-end sur deux. Une fois par an\, nous avons notre Week-end « Ado Camp ». Un moment à part pour se déconnecter de certaines choses de la vie courante afin de se connecter à l’auteur de notre vie. Il s’agit d’un moment de transformation\, de visitation. Nous croyons que Dieu se laisse trouver par ceux qui le cherchent. A bientôt
URL:https://www.cepevry.fr/event/ado-connect-5
ATTACH;FMTTYPE=image/jpeg:https://www.cepevry.fr/wp-content/uploads/2020/01/les-jeunes.jpg
END:VEVENT
BEGIN:VEVENT
DTSTART;TZID=Europe/Paris:20211204T100000
DTEND;TZID=Europe/Paris:20211204T120000
DTSTAMP:20260420T093646
CREATED:20211027T173112Z
LAST-MODIFIED:20211027T173142Z
UID:11475-1638612000-1638619200@www.cepevry.fr
SUMMARY:Évangélisation
DESCRIPTION:Jésus dans la parabole du grand festin dans Luc 14 nous rappelle que la maison du Père n’est pas encore pleine. Il nous invite à aller sur des places\, dans les rues\, le long des chemins et des grandes routes afin d’inviter le maximum de personnes. Conscients que Dieu a une bonne nouvelle pour chaque être humain\, notre groupe d’évangélisation appelé Anagkazo\, parcourt les rues afin de partager en toute simplicité le message d’amour de Dieu pour l’humanité. Rejoignez-nous à l’une de nos réunions!
URL:https://www.cepevry.fr/event/evangelisation-17
END:VEVENT
BEGIN:VEVENT
DTSTART;TZID=Europe/Paris:20211203T203000
DTEND;TZID=Europe/Paris:20211203T235900
DTSTAMP:20260420T093646
CREATED:20211027T172918Z
LAST-MODIFIED:20211027T172919Z
UID:11473-1638563400-1638575940@www.cepevry.fr
SUMMARY:Veillée de Prières
DESCRIPTION:Rdv de la veillée de prières mensuelle\, en présentiel.
URL:https://www.cepevry.fr/event/veillee-de-prieres-5
END:VEVENT
BEGIN:VEVENT
DTSTART;TZID=Europe/Paris:20211129T140000
DTEND;TZID=Europe/Paris:20211129T153000
DTSTAMP:20260420T093646
CREATED:20211027T170825Z
LAST-MODIFIED:20211027T170827Z
UID:11470-1638194400-1638199800@www.cepevry.fr
SUMMARY:Prières Pour la Famille
DESCRIPTION:Tous les lundis\, à partir de 14h\, se rencontrent ceux désirent prier pour les familles. Sous la conduite du responsable de cette équipe\, il s’agit d’un moment mis à part pour faire monter à Dieu des requêtes\, supplications et actions de grâce pour nos familles.
URL:https://www.cepevry.fr/event/prieres-pour-la-famille-4
ATTACH;FMTTYPE=image/jpeg:https://www.cepevry.fr/wp-content/uploads/2021/05/CEP-DIAPO-PROJECTION-8-1.jpg
END:VEVENT
BEGIN:VEVENT
DTSTART;TZID=Europe/Paris:20211128T090000
DTEND;TZID=Europe/Paris:20211128T140000
DTSTAMP:20260420T093646
CREATED:20211027T170454Z
LAST-MODIFIED:20211027T170511Z
UID:11464-1638090000-1638108000@www.cepevry.fr
SUMMARY:Culte et Session de Baptêmes
DESCRIPTION:Une session de baptêmes se tiendra durant le culte de 9h et de 11h30.
URL:https://www.cepevry.fr/event/culte-et-session-de-bapteme
END:VEVENT
BEGIN:VEVENT
DTSTART;TZID=Europe/Paris:20211127T090000
DTEND;TZID=Europe/Paris:20211127T120000
DTSTAMP:20260420T093646
CREATED:20211027T165847Z
LAST-MODIFIED:20211027T165849Z
UID:11462-1638003600-1638014400@www.cepevry.fr
SUMMARY:Ma Vie Avec Jésus
DESCRIPTION:Réunion des apprenants de la formation Ma Vie Avec Jésus .
URL:https://www.cepevry.fr/event/ma-vie-avec-jesus-2
END:VEVENT
BEGIN:VEVENT
DTSTART;TZID=Europe/Paris:20211126T193000
DTEND;TZID=Europe/Paris:20211126T220000
DTSTAMP:20260420T093646
CREATED:20210925T095858Z
LAST-MODIFIED:20211008T123123Z
UID:10952-1637955000-1637964000@www.cepevry.fr
SUMMARY:Life connect
DESCRIPTION:Life Connect est le groupe des jeunes adultes. Nous voulons être une église qui reste centrée sur l’essentiel. Nous avons décidé dans ce monde ultra-connecté\, d’orienter notre énergie et notre vie sur ce qui compte réellement : Jésus Alors ne tarde plus et rejoins cette aventure de vie extraordinaire\, passionnante et pleine de surprises. Remplie de défis\, mais aussi de victoires à la Gloire du Seigneur. Nous nous retrouvons tous les 2ème et 4ème vendredis soir tous les mois. C’est un temps convivial de louanges\, de partage de la parole\, de prières. C’est un moment que nous décidons de mettre à part pour vivre la réalité du royaume de Dieu. Une fois par an\, nous avons notre Week-end « Life Camp ». Un moment à part pour se déconnecter de certaines choses de la vie courante afin de se connecter à l’auteur de notre vie. Il s’agit d’un moment de transformation\, de visitation. Nous croyons que Dieu se laisse trouver par ceux qui le cherchent. A très bientôt
URL:https://www.cepevry.fr/event/life-connect-5
ATTACH;FMTTYPE=image/jpeg:https://www.cepevry.fr/wp-content/uploads/2020/01/les-jeunes.jpg
END:VEVENT
BEGIN:VEVENT
DTSTART;TZID=Europe/Paris:20211124T190000
DTEND;TZID=Europe/Paris:20211124T210000
DTSTAMP:20260420T093646
CREATED:20211027T165437Z
LAST-MODIFIED:20211027T165438Z
UID:11460-1637780400-1637787600@www.cepevry.fr
SUMMARY:Évangélisation
DESCRIPTION:Jésus dans la parabole du grand festin dans Luc 14 nous rappelle que la maison du Père n’est pas encore pleine. Il nous invite à aller sur des places\, dans les rues\, le long des chemins et des grandes routes afin d’inviter le maximum de personnes. Conscients que Dieu a une bonne nouvelle pour chaque être humain\, notre groupe d’évangélisation appelé Anagkazo\, parcourt les rues afin de partager en toute simplicité le message d’amour de Dieu pour l’humanité. Rejoignez-nous à l’une de nos réunions!
URL:https://www.cepevry.fr/event/evangelisation-16
END:VEVENT
BEGIN:VEVENT
DTSTART;TZID=Europe/Paris:20211124T140000
DTEND;TZID=Europe/Paris:20211124T160000
DTSTAMP:20260420T093646
CREATED:20211027T170646Z
LAST-MODIFIED:20211027T170647Z
UID:11468-1637762400-1637769600@www.cepevry.fr
SUMMARY:Atelier Dorcas
DESCRIPTION:Cette activité est offerte aux personnes fréquentant l’église\, mais aussi à leurs amis et voisins. C’est un moment de rencontre autours des ateliers de travaux manuels et créatifs. Les réunions se déroulent dans une ambiance chaleureuse et un esprit de conseil et d’encouragement. Il n’est pas nécessaire d’être membre du CEP pour participer à cet atelier\, toute personne est la bienvenue !
URL:https://www.cepevry.fr/event/atelier-dorcas-13
ATTACH;FMTTYPE=image/jpeg:https://www.cepevry.fr/wp-content/uploads/2016/05/Dorcas1.jpg
END:VEVENT
BEGIN:VEVENT
DTSTART;TZID=Europe/Paris:20211122T140000
DTEND;TZID=Europe/Paris:20211122T153000
DTSTAMP:20260420T093646
CREATED:20211027T165126Z
LAST-MODIFIED:20211027T165127Z
UID:11458-1637589600-1637595000@www.cepevry.fr
SUMMARY:Prières Pour la Famille
DESCRIPTION:Tous les lundis\, à partir de 14h\, se rencontrent ceux désirent prier pour les familles. Sous la conduite du responsable de cette équipe\, il s’agit d’un moment mis à part pour faire monter à Dieu des requêtes\, supplications et actions de grâce pour nos familles.
URL:https://www.cepevry.fr/event/prieres-pour-la-famille-3
ATTACH;FMTTYPE=image/jpeg:https://www.cepevry.fr/wp-content/uploads/2021/05/CEP-DIAPO-PROJECTION-5.jpg
END:VEVENT
BEGIN:VEVENT
DTSTART;TZID=Europe/Paris:20211120T160000
DTEND;TZID=Europe/Paris:20211120T180000
DTSTAMP:20260420T093646
CREATED:20210925T100312Z
LAST-MODIFIED:20211008T123109Z
UID:10958-1637424000-1637431200@www.cepevry.fr
SUMMARY:Ado connect
DESCRIPTION:Ado’Connect est le groupe de rencontre des ados. Dans une société ultra-connectée par les différents réseaux sociaux\, nous voulons être connectés à l’essentiel : Jésus-Christ. Nous nous rencontrons pour des moments de louange\, de partage\, de détente\, de prières afin de connecter entre nous et avec Dieu. Nos rendez-vous ont lieu les samedis après-midi\, un week-end sur deux. Une fois par an\, nous avons notre Week-end « Ado Camp ». Un moment à part pour se déconnecter de certaines choses de la vie courante afin de se connecter à l’auteur de notre vie. Il s’agit d’un moment de transformation\, de visitation. Nous croyons que Dieu se laisse trouver par ceux qui le cherchent. A bientôt
URL:https://www.cepevry.fr/event/ado-connect-4
ATTACH;FMTTYPE=image/jpeg:https://www.cepevry.fr/wp-content/uploads/2020/01/les-jeunes.jpg
END:VEVENT
BEGIN:VEVENT
DTSTART;TZID=Europe/Paris:20211120T100000
DTEND;TZID=Europe/Paris:20211120T120000
DTSTAMP:20260420T093646
CREATED:20211027T164951Z
LAST-MODIFIED:20211027T164953Z
UID:11456-1637402400-1637409600@www.cepevry.fr
SUMMARY:Évangélisation
DESCRIPTION:Jésus dans la parabole du grand festin dans Luc 14 nous rappelle que la maison du Père n’est pas encore pleine. Il nous invite à aller sur des places\, dans les rues\, le long des chemins et des grandes routes afin d’inviter le maximum de personnes. Conscients que Dieu a une bonne nouvelle pour chaque être humain\, notre groupe d’évangélisation appelé Anagkazo\, parcourt les rues afin de partager en toute simplicité le message d’amour de Dieu pour l’humanité. Rejoignez-nous à l’une de nos réunions!
URL:https://www.cepevry.fr/event/evangelisation-15
END:VEVENT
BEGIN:VEVENT
DTSTART;TZID=Europe/Paris:20211115T140000
DTEND;TZID=Europe/Paris:20211115T153000
DTSTAMP:20260420T093646
CREATED:20211027T164815Z
LAST-MODIFIED:20211027T164817Z
UID:11454-1636984800-1636990200@www.cepevry.fr
SUMMARY:Prières Pour la Famille
DESCRIPTION:Tous les lundis\, à partir de 14h\, se rencontrent ceux désirent prier pour les familles. Sous la conduite du responsable de cette équipe\, il s’agit d’un moment mis à part pour faire monter à Dieu des requêtes\, supplications et actions de grâce pour nos familles.
URL:https://www.cepevry.fr/event/prieres-pour-la-famille-2
ATTACH;FMTTYPE=image/jpeg:https://www.cepevry.fr/wp-content/uploads/2021/05/CEP-DIAPO-PROJECTION-5.jpg
END:VEVENT
BEGIN:VEVENT
DTSTART;TZID=Europe/Paris:20211114T093000
DTEND;TZID=Europe/Paris:20211114T130000
DTSTAMP:20260420T093646
CREATED:20211027T164619Z
LAST-MODIFIED:20211027T164620Z
UID:11452-1636882200-1636894800@www.cepevry.fr
SUMMARY:Culte
DESCRIPTION:Nous vous accueillons avec 2 horaires de culte : 9H et 11h30. La Garderie des tout-petits ainsi que L’Ecole du Dimanche\, accueillent vos enfants durant les deux horaires ! Pour assister au culte\, nous vous invitons à vous inscrire via le formulaire sur notre page d’accueil à partir du lundi . Vous pouvez aussi le suivre en direct sur notre chaîne Youtube : Cep Evry Courcouronnes à 11h30.
URL:https://www.cepevry.fr/event/culte-31
END:VEVENT
BEGIN:VEVENT
DTSTART;TZID=Europe/Paris:20211113T093000
DTEND;TZID=Europe/Paris:20211113T113000
DTSTAMP:20260420T093646
CREATED:20211027T164314Z
LAST-MODIFIED:20211027T164316Z
UID:11447-1636795800-1636803000@www.cepevry.fr
SUMMARY:Rév'Elles
DESCRIPTION:Le groupe des femmes devient Rev’elles et vous donne rendez-vous pour une rencontre-discussion sur le thème : « Un jour\, j’ai eu le courage de… ». Inscription sur la page d’accueil du site
URL:https://www.cepevry.fr/event/revelles
END:VEVENT
BEGIN:VEVENT
DTSTART;TZID=Europe/Paris:20211112T193000
DTEND;TZID=Europe/Paris:20211112T220000
DTSTAMP:20260420T093646
CREATED:20210925T095703Z
LAST-MODIFIED:20211008T123047Z
UID:10950-1636745400-1636754400@www.cepevry.fr
SUMMARY:Life connect
DESCRIPTION:Life Connect est le groupe des jeunes adultes. Nous voulons être une église qui reste centrée sur l’essentiel. Nous avons décidé dans ce monde ultra-connecté\, d’orienter notre énergie et notre vie sur ce qui compte réellement : Jésus Alors ne tarde plus et rejoins cette aventure de vie extraordinaire\, passionnante et pleine de surprises. Remplie de défis\, mais aussi de victoires à la Gloire du Seigneur. Nous nous retrouvons tous les 2ème et 4ème vendredis soir tous les mois. C’est un temps convivial de louanges\, de partage de la parole\, de prières. C’est un moment que nous décidons de mettre à part pour vivre la réalité du royaume de Dieu. Une fois par an\, nous avons notre Week-end « Life Camp ». Un moment à part pour se déconnecter de certaines choses de la vie courante afin de se connecter à l’auteur de notre vie. Il s’agit d’un moment de transformation\, de visitation. Nous croyons que Dieu se laisse trouver par ceux qui le cherchent. A très bientôt
URL:https://www.cepevry.fr/event/life-connect-4
ATTACH;FMTTYPE=image/jpeg:https://www.cepevry.fr/wp-content/uploads/2020/01/les-jeunes.jpg
END:VEVENT
BEGIN:VEVENT
DTSTART;TZID=Europe/Paris:20211110T190000
DTEND;TZID=Europe/Paris:20211110T210000
DTSTAMP:20260420T093646
CREATED:20211027T163713Z
LAST-MODIFIED:20211027T165242Z
UID:11443-1636570800-1636578000@www.cepevry.fr
SUMMARY:Évangélisation
DESCRIPTION:Jésus dans la parabole du grand festin dans Luc 14 nous rappelle que la maison du Père n’est pas encore pleine. Il nous invite à aller sur des places\, dans les rues\, le long des chemins et des grandes routes afin d’inviter le maximum de personnes. Conscients que Dieu a une bonne nouvelle pour chaque être humain\, notre groupe d’évangélisation appelé Anagkazo\, parcourt les rues afin de partager en toute simplicité le message d’amour de Dieu pour l’humanité. Rejoignez-nous à l’une de nos réunions!
URL:https://www.cepevry.fr/event/evangelisation-14
END:VEVENT
BEGIN:VEVENT
DTSTART;TZID=Europe/Paris:20211110T140000
DTEND;TZID=Europe/Paris:20211110T160000
DTSTAMP:20260420T093646
CREATED:20211027T163832Z
LAST-MODIFIED:20211027T163834Z
UID:11445-1636552800-1636560000@www.cepevry.fr
SUMMARY:Atelier Dorcas
DESCRIPTION:Cette activité est offerte aux personnes fréquentant l’église\, mais aussi à leurs amis et voisins. C’est un moment de rencontre autours des ateliers de travaux manuels et créatifs. Les réunions se déroulent dans une ambiance chaleureuse et un esprit de conseil et d’encouragement. Il n’est pas nécessaire d’être membre du CEP pour participer à cet atelier\, toute personne est la bienvenue !
URL:https://www.cepevry.fr/event/atelier-dorcas-12
ATTACH;FMTTYPE=image/jpeg:https://www.cepevry.fr/wp-content/uploads/2016/05/Dorcas1.jpg
END:VEVENT
BEGIN:VEVENT
DTSTART;TZID=Europe/Paris:20211108T140000
DTEND;TZID=Europe/Paris:20211108T160000
DTSTAMP:20260420T093646
CREATED:20211027T163538Z
LAST-MODIFIED:20211027T163540Z
UID:11441-1636380000-1636387200@www.cepevry.fr
SUMMARY:Prière Pour la Famille
DESCRIPTION:Tous les lundis\, à partir de 14h\, se rencontrent ceux désirent prier pour les familles. Sous la conduite du responsable de cette équipe\, il s’agit d’un moment mis à part pour faire monter à Dieu des requêtes\, supplications et actions de grâce pour nos familles.
URL:https://www.cepevry.fr/event/priere-pour-la-famille-15
ATTACH;FMTTYPE=image/jpeg:https://www.cepevry.fr/wp-content/uploads/2021/05/CEP-DIAPO-PROJECTION-5.jpg
END:VEVENT
BEGIN:VEVENT
DTSTART;TZID=Europe/Paris:20211107T103000
DTEND;TZID=Europe/Paris:20211107T140000
DTSTAMP:20260420T093646
CREATED:20211027T161520Z
LAST-MODIFIED:20211027T163351Z
UID:11436-1636281000-1636293600@www.cepevry.fr
SUMMARY:Brocante Crée'Action
DESCRIPTION:La Brocante annuelle de Crée’Action se tiendra après chaque culte . Venez nombreux.
URL:https://www.cepevry.fr/event/brocante-creeaction
END:VEVENT
BEGIN:VEVENT
DTSTART;TZID=Europe/Paris:20211107T090000
DTEND;TZID=Europe/Paris:20211107T130000
DTSTAMP:20260420T093646
CREATED:20211027T161245Z
LAST-MODIFIED:20211027T164441Z
UID:11434-1636275600-1636290000@www.cepevry.fr
SUMMARY:Culte
DESCRIPTION:Nous vous accueillons avec 2 horaires de culte : 9H et 11h30. La Garderie des tout-petits ainsi que L’Ecole du Dimanche\, accueillent vos enfants durant les deux horaires ! Pour assister au culte\, nous vous invitons à vous inscrire via le formulaire sur notre page d’accueil à partir du lundi . Vous pouvez aussi le suivre en direct sur notre chaîne Youtube : Cep Evry Courcouronnes à 11h30.
URL:https://www.cepevry.fr/event/culte-29
END:VEVENT
BEGIN:VEVENT
DTSTART;TZID=Europe/Paris:20211106T160000
DTEND;TZID=Europe/Paris:20211106T180000
DTSTAMP:20260420T093646
CREATED:20210925T100152Z
LAST-MODIFIED:20210925T100153Z
UID:10956-1636214400-1636221600@www.cepevry.fr
SUMMARY:Ado Connect
DESCRIPTION:Ado’Connect est le groupe de rencontre des ados. Dans une société ultra-connectée par les différents réseaux sociaux\, nous voulons être connectés à l’essentiel : Jésus-Christ. Nous nous rencontrons pour des moments de louange\, de partage\, de détente\, de prières afin de connecter entre nous et avec Dieu. Nos rendez-vous ont lieu les samedis après-midis de 17h-20h\, un week-end sur deux. Une fois par an\, nous avons notre Week-end « Ado Camp ». Un moment à part pour se déconnecter de certaines choses de la vie courante afin de se connecter à l’auteur de notre vie. Il s’agit d’un moment de transformation\, de visitation. Nous croyons que Dieu se laisse trouver par ceux qui le cherchent. A bientôt
URL:https://www.cepevry.fr/event/ado-connect-3
ATTACH;FMTTYPE=image/jpeg:https://www.cepevry.fr/wp-content/uploads/2020/01/les-jeunes.jpg
END:VEVENT
BEGIN:VEVENT
DTSTART;TZID=Europe/Paris:20211106T100000
DTEND;TZID=Europe/Paris:20211106T120000
DTSTAMP:20260420T093646
CREATED:20211027T160908Z
LAST-MODIFIED:20211027T160909Z
UID:11432-1636192800-1636200000@www.cepevry.fr
SUMMARY:Évangélisation
DESCRIPTION:Jésus dans la parabole du grand festin dans Luc 14 nous rappelle que la maison du Père n’est pas encore pleine. Il nous invite à aller sur des places\, dans les rues\, le long des chemins et des grandes routes afin d’inviter le maximum de personnes. Conscients que Dieu a une bonne nouvelle pour chaque être humain\, notre groupe d’évangélisation appelé Anagkazo\, parcourt les rues afin de partager en toute simplicité le message d’amour de Dieu pour l’humanité. Rejoignez-nous à l’une de nos réunions!
URL:https://www.cepevry.fr/event/evangelisation-13
END:VEVENT
BEGIN:VEVENT
DTSTART;TZID=Europe/Paris:20211105T203000
DTEND;TZID=Europe/Paris:20211105T235900
DTSTAMP:20260420T093646
CREATED:20211027T160602Z
LAST-MODIFIED:20211027T160603Z
UID:11430-1636144200-1636156740@www.cepevry.fr
SUMMARY:Veillée de Prières
DESCRIPTION:Rdv pour notre  soirée de prières mensuelle en présentiel
URL:https://www.cepevry.fr/event/veillee-de-prieres-4
END:VEVENT
BEGIN:VEVENT
DTSTART;TZID=Europe/Paris:20211031T090000
DTEND;TZID=Europe/Paris:20211031T130000
DTSTAMP:20260420T093646
CREATED:20210909T220601Z
LAST-MODIFIED:20210909T220603Z
UID:10670-1635670800-1635685200@www.cepevry.fr
SUMMARY:Culte
DESCRIPTION:Culte spécial  Convention Jeunesse UAPM – 1VPS. Inscription sur le site web
URL:https://www.cepevry.fr/event/culte-28
END:VEVENT
BEGIN:VEVENT
DTSTART;TZID=Europe/Paris:20211030T000000
DTEND;TZID=Europe/Paris:20211031T235959
DTSTAMP:20260420T093646
CREATED:20210909T220342Z
LAST-MODIFIED:20210924T122125Z
UID:10668-1635552000-1635724799@www.cepevry.fr
SUMMARY:Convention Jeunesse UAPM - 1VPS
DESCRIPTION:Rencontre annuelle de la jeunesse des églises membres de l’UAPM.  Inscription sur le site dédié www.1vps.fr
URL:https://www.cepevry.fr/event/convention-jeunesse-uapm-1vps
ATTACH;FMTTYPE=image/jpeg:https://www.cepevry.fr/wp-content/uploads/2021/09/1VPS21_calendar_cep_website.jpg
END:VEVENT
BEGIN:VEVENT
DTSTART;TZID=Europe/Paris:20211029T193000
DTEND;TZID=Europe/Paris:20211029T220000
DTSTAMP:20260420T093646
CREATED:20210925T095535Z
LAST-MODIFIED:20211008T123203Z
UID:10948-1635535800-1635544800@www.cepevry.fr
SUMMARY:Life connect
DESCRIPTION:Life Connect est le groupe des jeunes adultes. Nous voulons être une église qui reste centrée sur l’essentiel. Nous avons décidé dans ce monde ultra-connecté\, d’orienter notre énergie et notre vie sur ce qui compte réellement : Jésus Alors ne tarde plus et rejoins cette aventure de vie extraordinaire\, passionnante et pleine de surprises. Remplie de défis\, mais aussi de victoires à la Gloire du Seigneur. Nous nous retrouvons tous les 2ème et 4ème vendredis soir tous les mois. C’est un temps convivial de louanges\, de partage de la parole\, de prières. C’est un moment que nous décidons de mettre à part pour vivre la réalité du royaume de Dieu. Une fois par an\, nous avons notre Week-end « Life Camp ». Un moment à part pour se déconnecter de certaines choses de la vie courante afin de se connecter à l’auteur de notre vie. Il s’agit d’un moment de transformation\, de visitation. Nous croyons que Dieu se laisse trouver par ceux qui le cherchent. A très bientôt
URL:https://www.cepevry.fr/event/life-connect-3
ATTACH;FMTTYPE=image/jpeg:https://www.cepevry.fr/wp-content/uploads/2020/01/les-jeunes.jpg
END:VEVENT
BEGIN:VEVENT
DTSTART;TZID=Europe/Paris:20211027T190000
DTEND;TZID=Europe/Paris:20211027T210000
DTSTAMP:20260420T093646
CREATED:20210909T220051Z
LAST-MODIFIED:20210909T220053Z
UID:10666-1635361200-1635368400@www.cepevry.fr
SUMMARY:Évangélisation
DESCRIPTION:Jésus dans la parabole du grand festin dans Luc 14 nous rappelle que la maison du Père n’est pas encore pleine. Il nous invite à aller sur des places\, dans les rues\, le long des chemins et des grandes routes afin d’inviter le maximum de personnes. Conscients que Dieu a une bonne nouvelle pour chaque être humain\, notre groupe d’évangélisation appelé Anagkazo\, parcourt les rues afin de partager en toute simplicité le message d’amour de Dieu pour l’humanité. Rejoignez-nous à l’une de nos réunions!
URL:https://www.cepevry.fr/event/evangelisation-12
END:VEVENT
BEGIN:VEVENT
DTSTART;TZID=Europe/Paris:20211027T080000
DTEND;TZID=Europe/Paris:20211027T170000
DTSTAMP:20260420T093646
CREATED:20211027T164418Z
LAST-MODIFIED:20211027T164420Z
UID:11449-1635321600-1635354000@www.cepevry.fr
SUMMARY:Culte
DESCRIPTION:Nous vous accueillons avec 2 horaires de culte : 9H et 11h30. La Garderie des tout-petits ainsi que L’Ecole du Dimanche\, accueillent vos enfants durant les deux horaires ! Pour assister au culte\, nous vous invitons à vous inscrire via le formulaire sur notre page d’accueil à partir du lundi . Vous pouvez aussi le suivre en direct sur notre chaîne Youtube : Cep Evry Courcouronnes à 11h30.
URL:https://www.cepevry.fr/event/culte-30
END:VEVENT
BEGIN:VEVENT
DTSTART;TZID=Europe/Paris:20211024T090000
DTEND;TZID=Europe/Paris:20211024T130000
DTSTAMP:20260420T093646
CREATED:20210909T215914Z
LAST-MODIFIED:20210909T215915Z
UID:10664-1635066000-1635080400@www.cepevry.fr
SUMMARY:Culte
DESCRIPTION:Nous vous accueillons avec 2 horaires de culte : 9H et 11h30. Nouveauté : La Garderie des tout-petits accueille vos enfants durant les deux horaires ! Pour assister au culte\, nous vous invitons à vous inscrire via le formulaire sur notre page d’accueil à partir du lundi . Vous pouvez aussi le suivre en direct sur notre chaîne Youtube : Cep Evry Courcouronnes à 11h30.
URL:https://www.cepevry.fr/event/culte-27
END:VEVENT
END:VCALENDAR